BEGIN:VCALENDAR
VERSION:2.0
PRODID:-//eventon.com NONSGML v1.0//EN
CALSCALE:GREGORIAN
METHOD:PUBLISH
BEGIN:VEVENT
UID:69e73da60999c
DTSTAMP:20260421T090438Z
DTSTART:20180429T140000Z
DTEND:20180429T235000Z
LOCATION:St Mary's Cemetery Nichols Road
SUMMARY:Cemetery Tour
DESCRIPTION:An opportunity to have a guided tour of the cemetery to learn a
 bout the history of Walkley and colourful past of those buried here.\nhttps
 ://stmaryswalkley.co.uk/events/cemetery-tour/
URL:https://stmaryswalkley.co.uk/events/cemetery-tour/
END:VEVENT
END:VCALENDAR