BEGIN:VCALENDAR
VERSION:2.0
PRODID:-//eventon.com NONSGML v1.0//EN
CALSCALE:GREGORIAN
METHOD:PUBLISH
BEGIN:VEVENT
UID:69e73ac5703ed
DTSTAMP:20260421T085221Z
DTSTART:20231105T103000Z
DTEND:20231105T113000Z
LOCATION:St Mary's Church Howard Road\,  S6 3RX
SUMMARY:All Souls Memorial
DESCRIPTION:\nhttps://stmaryswalkley.co.uk/events/all-souls-memorial/
URL:https://stmaryswalkley.co.uk/events/all-souls-memorial/
END:VEVENT
END:VCALENDAR