BEGIN:VCALENDAR
VERSION:2.0
PRODID:-//eventon.com NONSGML v1.0//EN
CALSCALE:GREGORIAN
METHOD:PUBLISH
BEGIN:VEVENT
UID:69ea365374f5e
DTSTAMP:20260423T151011Z
DTSTART:20230406T193000Z
DTEND:20230406T203000Z
LOCATION:St Mary's Church Howard Road\,  S6 3RX
SUMMARY:Maundy Thursday Service
DESCRIPTION:\nhttps://stmaryswalkley.co.uk/events/maundy-thursday-service/
URL:https://stmaryswalkley.co.uk/events/maundy-thursday-service/
END:VEVENT
END:VCALENDAR