BEGIN:VCALENDAR
VERSION:2.0
PRODID:-//eventon.com NONSGML v1.0//EN
CALSCALE:GREGORIAN
METHOD:PUBLISH
BEGIN:VEVENT
UID:69e752e4a0252
DTSTAMP:20260421T103516Z
DTSTART:20230205T103000Z
DTEND:20230205T113000Z
LOCATION:St Mary's Church Howard Road\,  S6 3RX
SUMMARY:Third Sunday Before Lent Eucharist Service
DESCRIPTION:\nhttps://stmaryswalkley.co.uk/events/third-sunday-before-lent-
 eucharist-service/
URL:https://stmaryswalkley.co.uk/events/third-sunday-before-lent-eucharist-service/
END:VEVENT
END:VCALENDAR