BEGIN:VCALENDAR
VERSION:2.0
PRODID:-//eventon.com NONSGML v1.0//EN
CALSCALE:GREGORIAN
METHOD:PUBLISH
BEGIN:VEVENT
UID:69e9d803e9910
DTSTAMP:20260423T082747Z
DTSTART:20221113T140000Z
DTEND:20221113T153000Z
LOCATION:St Mary's Cemetery Nichols Road
SUMMARY:Walkley Cemetery Remembrance Day Tour
DESCRIPTION:\nhttps://stmaryswalkley.co.uk/events/walkley-cemetery-remembra
 nce-day-tour/
URL:https://stmaryswalkley.co.uk/events/walkley-cemetery-remembrance-day-tour/
END:VEVENT
END:VCALENDAR