BEGIN:VCALENDAR
VERSION:2.0
PRODID:-//eventon.com NONSGML v1.0//EN
CALSCALE:GREGORIAN
METHOD:PUBLISH
BEGIN:VEVENT
UID:69e5eca8b69ab
DTSTAMP:20260420T090648Z
DTSTART:20220701T100000Z
DTEND:20220701T160000Z
LOCATION:St Mary's Church Howard Road\,  S6 3RX
SUMMARY:Walkley Well Dressing - Day Three
DESCRIPTION:Walkley Well Dressing - Day Three\nhttps://stmaryswalkley.co.uk
 /events/walkley-well-dressing-day-three/
URL:https://stmaryswalkley.co.uk/events/walkley-well-dressing-day-three/
END:VEVENT
END:VCALENDAR