BEGIN:VCALENDAR
VERSION:2.0
PRODID:-//eventon.com NONSGML v1.0//EN
CALSCALE:GREGORIAN
METHOD:PUBLISH
BEGIN:VEVENT
UID:69e62f924ce32
DTSTAMP:20260420T135218Z
DTSTART:20201101T183000Z
DTEND:20201101T193000Z
LOCATION:St Mary's Church Howard Road\,  S6 3RX
SUMMARY:Memorial Service for All Soul's Day - the Commemoration of the Faithful departed
DESCRIPTION:At our Memorial Service for All Souls we remember those we mour
 n. Under normal circumstances we would welcome everyone to church for this 
 service. Regrettably\,  because of limits on how many can safely attend in 
 person\,  it is necessary to sign up to attend. By completing this simple f
 orm you[..]\nhttps://stmaryswalkley.co.uk/events/memorial-service-for-all-s
 ouls-day-the-commemoration-of-the-faithful-departed/
URL:https://stmaryswalkley.co.uk/events/memorial-service-for-all-souls-day-the-commemoration-of-the-faithful-departed/
END:VEVENT
END:VCALENDAR